BEGIN:VCALENDAR
PRODID:-//eluceo/ical//2.0/EN
VERSION:2.0
CALSCALE:GREGORIAN
BEGIN:VEVENT
UID:401cf494142f7e100c942693e8114aeb
DTSTAMP:20260424T134515Z
SUMMARY:Den bortglömda hjälten: filmen om Göst Engzell
DESCRIPTION:Talare: Hans-Gösta Engzell berättar om en svensk hjälte\, si
 n far\, som sade inte mycket\, ”jag bara gjorde min tjänst”. Se gärn
 a filmen på Netflix\, då blir det mer informativt och roligare att både
  lyssna och berätta.
URL:https://taby-jarlabanke.rotary2355.se/sv/agenda/show/218474
DTSTART;TZID=Europe/Zurich:20260527T071500
DTEND;TZID=Europe/Zurich:20260527T083000
LOCATION:Scandic Täby (och via Zoom)\, Näsbyvägen 4\, 183 30 Täby\, Sve
 rige
CATEGORIES:Rotary
END:VEVENT
BEGIN:VTIMEZONE
TZID:Europe/Zurich
BEGIN:DAYLIGHT
DTSTART:20260527T071500
TZNAME:CEST
TZOFFSETTO:+0200
TZOFFSETFROM:+0200
END:DAYLIGHT
END:VTIMEZONE
END:VCALENDAR
