BEGIN:VCALENDAR
PRODID:-//eluceo/ical//2.0/EN
VERSION:2.0
CALSCALE:GREGORIAN
BEGIN:VEVENT
UID:ff5198ddadb1df798ea6c34ea4c1d340
DTSTAMP:20260424T135728Z
SUMMARY:Vad händer när pojkar aldrig blir män?
DESCRIPTION:Talare: Houman Sebghati är social ingenjör\, historielärare\
 , handledare i Utvecklande Ledarskap\, författare och musikartist. I öve
 r 20 år har han arbetat i gränslandet mellan kultur\, utbildning och sam
 hällsutveckling – med fokus på unga människors potential och vuxnas a
 nsvar.Just nu driver Houman projektet BRAM\, en satsning som hjälper unga
  killar i utsatthet att ta steget in i vuxenlivet genom moderna rites of p
 assage. I sin föreläsning berättar han om vägen från Hässelby Gård 
 till idag – och om hur samhällsengagemang\, ledarskap och entreprenörs
 kap kan förenas för verklig förändring.Houman söker nu mentorer\, sam
 arbetspartners och finansiärer som vill bidra till att bygga långsiktigt
  hållbara lösningar för unga människor i Sverige – där socialt ansv
 ar och konkreta resultat går hand i hand. Sedan oktober 2025 är han medl
 em i Rotary Kungsträdgården.
URL:https://taby-jarlabanke.rotary2355.se/sv/agenda/show/218352
DTSTART;TZID=Europe/Zurich:20260429T071500
DTEND;TZID=Europe/Zurich:20260429T083000
LOCATION:Scandic Täby (och via Zoom)\, Näsbyvägen 4\, 183 30 Täby\, Sve
 rige
CATEGORIES:Rotary
END:VEVENT
BEGIN:VTIMEZONE
TZID:Europe/Zurich
BEGIN:DAYLIGHT
DTSTART:20260429T071500
TZNAME:CEST
TZOFFSETTO:+0200
TZOFFSETFROM:+0200
END:DAYLIGHT
END:VTIMEZONE
END:VCALENDAR
